BEGIN:VCALENDAR
VERSION:2.0
PRODID:-//Squarespace Inc/Squarespace 6//v6//EN
BEGIN:VEVENT
UID:59d2f9743e00be9ef5b3c687@squarespace.com
DTSTAMP:20171109T200021Z
DTSTART:20180425T070000Z
DTEND:20180428T000000Z
SUMMARY:Fearless 2018 - We Are
GEO:-44.376426;171.219524
LOCATION:Mountainview High School\, Mountainview High School\, Pages Road\, 
 Timaru\, Canterbury\, Timaru\, New Zealand
END:VEVENT
END:VCALENDAR
